BEGIN:VCALENDAR
VERSION:2.0
PRODID:-//Ferences Világi Rend - ECPv6.15.20//NONSGML v1.0//EN
CALSCALE:GREGORIAN
METHOD:PUBLISH
X-WR-CALNAME:Ferences Világi Rend
X-ORIGINAL-URL:https://fvr.hu
X-WR-CALDESC:Events for Ferences Világi Rend
REFRESH-INTERVAL;VALUE=DURATION:PT1H
X-Robots-Tag:noindex
X-PUBLISHED-TTL:PT1H
BEGIN:VTIMEZONE
TZID:Europe/Budapest
BEGIN:DAYLIGHT
TZOFFSETFROM:+0100
TZOFFSETTO:+0200
TZNAME:CEST
DTSTART:20230326T010000
END:DAYLIGHT
BEGIN:STANDARD
TZOFFSETFROM:+0200
TZOFFSETTO:+0100
TZNAME:CET
DTSTART:20231029T010000
END:STANDARD
BEGIN:DAYLIGHT
TZOFFSETFROM:+0100
TZOFFSETTO:+0200
TZNAME:CEST
DTSTART:20240331T010000
END:DAYLIGHT
BEGIN:STANDARD
TZOFFSETFROM:+0200
TZOFFSETTO:+0100
TZNAME:CET
DTSTART:20241027T010000
END:STANDARD
BEGIN:DAYLIGHT
TZOFFSETFROM:+0100
TZOFFSETTO:+0200
TZNAME:CEST
DTSTART:20250330T010000
END:DAYLIGHT
BEGIN:STANDARD
TZOFFSETFROM:+0200
TZOFFSETTO:+0100
TZNAME:CET
DTSTART:20251026T010000
END:STANDARD
END:VTIMEZONE
BEGIN:VEVENT
DTSTART;TZID=Europe/Budapest:20240916T153000
DTEND;TZID=Europe/Budapest:20240916T173000
DTSTAMP:20260423T050208
CREATED:20240710T091013Z
LAST-MODIFIED:20240710T091013Z
UID:5447-1726500600-1726507800@fvr.hu
SUMMARY:Ünnepi szentmise a stigmatizáció jubileumának alkalmából
DESCRIPTION:A stigmatizáció jubileumának ünnepi szentmiséje a Szent Ferenc sebei templomban. \n15.30-tól zsolozsma \n16 órától az ünnepi szentmisét bemutatja Berhidai Piusz tartományfőnök atya.
URL:https://fvr.hu/event/unnepi-szentmise-a-stigmatizacio-jubileumanak-alkalmabol/
LOCATION:Szent Ferenc sebei templom\, Fő u. 43.\, Budapest\, 1011\, Hungary
CATEGORIES:800 éves jubileum,országos
END:VEVENT
END:VCALENDAR