BEGIN:VCALENDAR
VERSION:2.0
PRODID:-//Ferences Világi Rend - ECPv6.15.20//NONSGML v1.0//EN
CALSCALE:GREGORIAN
METHOD:PUBLISH
X-WR-CALNAME:Ferences Világi Rend
X-ORIGINAL-URL:https://fvr.hu
X-WR-CALDESC:Events for Ferences Világi Rend
REFRESH-INTERVAL;VALUE=DURATION:PT1H
X-Robots-Tag:noindex
X-PUBLISHED-TTL:PT1H
BEGIN:VTIMEZONE
TZID:Europe/Budapest
BEGIN:DAYLIGHT
TZOFFSETFROM:+0100
TZOFFSETTO:+0200
TZNAME:CEST
DTSTART:20230326T010000
END:DAYLIGHT
BEGIN:STANDARD
TZOFFSETFROM:+0200
TZOFFSETTO:+0100
TZNAME:CET
DTSTART:20231029T010000
END:STANDARD
BEGIN:DAYLIGHT
TZOFFSETFROM:+0100
TZOFFSETTO:+0200
TZNAME:CEST
DTSTART:20240331T010000
END:DAYLIGHT
BEGIN:STANDARD
TZOFFSETFROM:+0200
TZOFFSETTO:+0100
TZNAME:CET
DTSTART:20241027T010000
END:STANDARD
BEGIN:DAYLIGHT
TZOFFSETFROM:+0100
TZOFFSETTO:+0200
TZNAME:CEST
DTSTART:20250330T010000
END:DAYLIGHT
BEGIN:STANDARD
TZOFFSETFROM:+0200
TZOFFSETTO:+0100
TZNAME:CET
DTSTART:20251026T010000
END:STANDARD
BEGIN:DAYLIGHT
TZOFFSETFROM:+0100
TZOFFSETTO:+0200
TZNAME:CEST
DTSTART:20260329T010000
END:DAYLIGHT
BEGIN:STANDARD
TZOFFSETFROM:+0200
TZOFFSETTO:+0100
TZNAME:CET
DTSTART:20261025T010000
END:STANDARD
END:VTIMEZONE
BEGIN:VTIMEZONE
TZID:UTC
BEGIN:STANDARD
TZOFFSETFROM:+0000
TZOFFSETTO:+0000
TZNAME:UTC
DTSTART:20230101T000000
END:STANDARD
END:VTIMEZONE
BEGIN:VEVENT
DTSTART;TZID=Europe/Budapest:20251129T100000
DTEND;TZID=Europe/Budapest:20251129T170000
DTSTAMP:20260421T185517
CREATED:20241203T131528Z
LAST-MODIFIED:20250925T152844Z
UID:8333-1764410400-1764435600@fvr.hu
SUMMARY:Ferences Napok\, képzés - A piliscsabai képzések záró alkalma Szentkúton
DESCRIPTION:“Az evangéliumból az életbe – életből az evangéliumba” \nElőadó: Fr. Cesare Vaiani OFM
URL:https://fvr.hu/event/ferences-napok-kepzes/
LOCATION:Máraverebély-Szentkút\, 14\, Máraverebély-Szentkút\, 3077\, Hungary
CATEGORIES:Angyalos Boldogasszony Régió,országos,többnapos
END:VEVENT
BEGIN:VEVENT
DTSTART;TZID=Europe/Budapest:20250920T100000
DTEND;TZID=Europe/Budapest:20250920T173000
DTSTAMP:20260421T185517
CREATED:20250920T110717Z
LAST-MODIFIED:20250929T181950Z
UID:8397-1758362400-1758389400@fvr.hu
SUMMARY:Ferences Napok\, képzés Piliscsabán
DESCRIPTION:“Az evangéliumból az életbe – életből az evangéliumba” \n 
URL:https://fvr.hu/event/ferences-napok-kepzes-piliscsaban-3/
LOCATION:Klotildligeti Plébánia\, Klotild tér 1.\, Piliscsaba\, Magyarország
CATEGORIES:Angyalos Boldogasszony Régió
ATTACH;FMTTYPE=application/pdf:https://fvr.hu/wp-content/uploads/2024/12/2023-2025-Ferences-napok-plakat-11-tomoritett.pdf
END:VEVENT
BEGIN:VEVENT
DTSTART;VALUE=DATE:20250802
DTEND;VALUE=DATE:20250803
DTSTAMP:20260421T185517
CREATED:20250802T090933Z
LAST-MODIFIED:20250929T181848Z
UID:8749-1754092800-1754179199@fvr.hu
SUMMARY:Porciunkula búcsú Bodajkon
DESCRIPTION:SZENTÉVI PORCIUNKULA BÚCSÚ BODAJKON \nAugusztus 2.\, a Porciunkula búcsú idén szombatra esik. Ez is kedvező körülmény\narra\, hogy a Világi Rend lelki napot szervezzen Bodajkra\, a megújított kegyhelyre\,\namely a szentévi búcsú kiemelt helyszíne is a Fehérvári Egyházmegyében.\nSzeretettel várjuk az Angyalos Boldogasszony Régió közösségeit – hiszen Bodajk az\nebben a régióban van – de a többi közösséget is hívjuk. \nA búcsúi lelki nap programja: \n9.30 zarándokok fogadása\n10.00 napközi imaóra\n10.15 előadás: „Az öröm és remény hirnökei” fr. Jeromos OFM atya\n11.00 a kegyhely bemutatása\n12.00 szentmise\nutána ebédszünet. Ebéd batyuból a zarándokudvaron.\n14.30 orgonakoncert\n15.00 Magóné Hegyháti Erika OFS előadása: A remény hírnökeként\nszolgálva a legkisebbek között. Egy szolgáló élet tapasztalatai\n16.00 keresztút\n17.00 hazaindulás \nGyóntatnak a kegyhely atyái a helyszínen hirdetett időszakban. \nA kegyhely zarándokudvarán fedett\, árnyékos hely van. A Religio kegytárgybolt nyitva a délutáni programig.\nA zarándokudvaron mosdó is van.
URL:https://fvr.hu/event/porciunkula-bucsu-bodajkon/
LOCATION:Bodajk Segítő Szűz Mária kegyhely\, Bodajki Segítő Szűz Mária-kegytemplom\, Bodajk\, Szent István tér 1\, 8053\, Bodajk\, 8053\, Hungary
CATEGORIES:Angyalos Boldogasszony Régió,országos
END:VEVENT
BEGIN:VEVENT
DTSTART;TZID=Europe/Budapest:20250524T100000
DTEND;TZID=Europe/Budapest:20250524T170000
DTSTAMP:20260421T185517
CREATED:20250524T110748Z
LAST-MODIFIED:20250929T181819Z
UID:8396-1748080800-1748106000@fvr.hu
SUMMARY:Ferences Napok\, képzés Piliscsabán
DESCRIPTION:“Az evangéliumból az életbe – életből az evangéliumba”
URL:https://fvr.hu/event/ferences-napok-kepzes-piliscsaban-4/
LOCATION:Páduai Szent Antal Iskola\, Béla király útja 72.\, Piliscsaba\, 2081\, Hungary
CATEGORIES:Angyalos Boldogasszony Régió
END:VEVENT
BEGIN:VEVENT
DTSTART;TZID=Europe/Budapest:20250222T100000
DTEND;TZID=Europe/Budapest:20250222T170000
DTSTAMP:20260421T185517
CREATED:20250222T120342Z
LAST-MODIFIED:20250929T181707Z
UID:8393-1740218400-1740243600@fvr.hu
SUMMARY:Ferences Napok\, képzés Piliscsabán
DESCRIPTION:“Az evangéliumból az életbe – életből az evangéliumba”
URL:https://fvr.hu/event/ferences-napok-kepzes-piliscsaban-2/
LOCATION:Klotildligeti Plébánia\, Klotild tér 1.\, Piliscsaba\, Magyarország
CATEGORIES:Angyalos Boldogasszony Régió
END:VEVENT
BEGIN:VEVENT
DTSTART;TZID=Europe/Budapest:20241221T080000
DTEND;TZID=Europe/Budapest:20241221T100000
DTSTAMP:20260421T185517
CREATED:20241221T095558Z
LAST-MODIFIED:20250929T181604Z
UID:8470-1734768000-1734775200@fvr.hu
SUMMARY:Befogadás\, fogadalomtétel a Szent Család közösségben - Budapest Ferenciek tere
DESCRIPTION:Kedves Testvérek!\nDecember 21-én szombaton a reggel 8 órai szentmise keretében\n \n-befogadást nyer Berkes Rita\, Tóth Kornél és Záhonyi Zita\,\n– éves fogadalmat tesz Dr Lotzné Tóth Katalin és Dr Lotz Károly\,\n– örökfogadalmat tesznek Markóth Csilla\, Nagy Judit és Szemerédy Éva testvérek.\n \nA többiek megújítják fogadalmukat.\n15 éves fogadalmasok:\nDr Köles Tiborné Erzsébet\, Major Judit\, Petik Zoltánné Mária és Valóczi Ilona testvérek\, ők 2009-ben tettek örökfogadalmat még az akkori III. rendben.\n \nA fogadalmak után szerény agapé lesz a Szent Ferenc teremben.\n \n \n\n 
URL:https://fvr.hu/event/befogadas-fogadalomtetel-a-szent-csalad-kozossegben-budapest-ferenciek-tere/
LOCATION:Belvárosi Ferences templom\, Bp. Ferenciek tere\, Ferenciek tere 9.\, Budapest\, 1053\, Hungary
CATEGORIES:Angyalos Boldogasszony Régió
END:VEVENT
BEGIN:VEVENT
DTSTART;TZID=Europe/Budapest:20241123T100000
DTEND;TZID=Europe/Budapest:20241123T120000
DTSTAMP:20260421T185517
CREATED:20241031T161846Z
LAST-MODIFIED:20241031T161846Z
UID:8033-1732356000-1732363200@fvr.hu
SUMMARY:Befogadás\, fogadalomtétel és jubileum Piliscsabán
DESCRIPTION:Nagy örömmel és szeretettel hívunk Benneteket november 23-án szombaton délelőtt 10:00 órára  Piliscsabára a Jézus Szíve Klotildligeti Plébániatemplomba\, ahol a Szent Páter Pióról nevezett Ferences Világi Rendi közösségünkben\, ünnepi szentmise keretében:\n\n örökfogadalmat tesz: SZABÓ GABRIELLA testvérünk\n közösségünk kapcsolódó tagjává fogadjuk: ZSUBORI EDINA ÁGNES testvérünket\n 10 éves örökfogadalmát ünnepli: TÓTHNÉ MAJOR ÁGNES\, REISCHLNÉ VASKÓ\n         ZSUZSANNA testvérünk és  emlékezünk † NAGY PÉTERNÉ (GYŐRFI EDIT) testvérünkre\n 20 éves örökfogadalmát ünnepli: KATONA ZSUZSANNA\, ORTUTAY CSABA\n         PÉTER ÉS ORTUTAY ZSUZSANNA  testvérünk\n 30 éves örökfogadalmát ünnepli: VADAS JÁNOS testvérünk\n\nAz ünnepi szentmise utáni agapéra is nagy szeretettel látunk minden jelenlévőt!
URL:https://fvr.hu/event/befogadas-fogadalomtetel-es-jubileum-piliscsaban/
LOCATION:Klotildligeti Plébánia\, Klotild tér 1.\, Piliscsaba\, Magyarország
CATEGORIES:Angyalos Boldogasszony Régió
END:VEVENT
BEGIN:VEVENT
DTSTART;TZID=Europe/Budapest:20241117T160000
DTEND;TZID=Europe/Budapest:20241117T170000
DTSTAMP:20260421T185517
CREATED:20241105T064009Z
LAST-MODIFIED:20241105T064009Z
UID:8050-1731859200-1731862800@fvr.hu
SUMMARY:Befogadások\, fogadalomtétel a budapesti Árpád-házi Szent Erzsébet közösségben
DESCRIPTION:Szeretettel várunk benneteket Szent Erzsébet ünnepünkre november 17-én\, vasárnap 16h-kor kezdődő szentmisénken az Országúti Ferences Templomban.\nNagy örömünkre befogadásokra és fogadalomra is sor kerül: Juhász Boglárka ideiglenes fogadalmat tesz\, Annus Andrea és Okváth Ágnes pedig befogadást nyer.\nA siófoki Szent Ferenc közösségből Szöllősiné Kocsi Nikoletta\, Szöllősi Tamás\, Tomanek Péter atya és Lénárt József is befogadást nyernek\, mely első lépés az önálló ferences világi rendi közösségük megalapítása felé.
URL:https://fvr.hu/event/befogadasok-fogadalomtetel-a-budapesti-arpad-hazi-szent-erzsebet-kozossegben/
LOCATION:Országúti ferences templom Margit krt.\, Margit körút 23.\, Budapest\, 1024\, Hungary
CATEGORIES:Angyalos Boldogasszony Régió
END:VEVENT
BEGIN:VEVENT
DTSTART;TZID=Europe/Budapest:20241014T180000
DTEND;TZID=Europe/Budapest:20241014T193000
DTSTAMP:20260421T185517
CREATED:20241009T061904Z
LAST-MODIFIED:20241009T061904Z
UID:7908-1728928800-1728934200@fvr.hu
SUMMARY:Befogadás a Budai Kapisztrán Szent János Közösségben
DESCRIPTION:Örömmel adjuk hírül\, hogy a Budai Kapisztrán Szent János Közösségben hétfőn\, 14-én kerül sor a Rokfalusy házaspár\, Margit és László befogadására. A szertartás a Margit körúti ferences templomban lesz az esti 6 órás szentmise keretében.
URL:https://fvr.hu/event/befogadas-a-budai-kapisztran-szent-janos-kozossegben/
LOCATION:Országúti ferences templom Margit krt.\, Margit körút 23.\, Budapest\, 1024\, Hungary
CATEGORIES:Angyalos Boldogasszony Régió
END:VEVENT
BEGIN:VEVENT
DTSTART;TZID=Europe/Budapest:20240929T183000
DTEND;TZID=Europe/Budapest:20240929T200000
DTSTAMP:20260421T185517
CREATED:20240924T110137Z
LAST-MODIFIED:20240924T110137Z
UID:7826-1727634600-1727640000@fvr.hu
SUMMARY:Fogadalomtétel - Esztergom
DESCRIPTION:Örömmel értesítjük a Testvéreket\, hogy 2024. szeptember 29-én\, vasárnap este 1/2 7-kor fogadalomtétellel egybekötött szentmise lesz Esztergomban a Ferences Templomban.\nEzen az alkalmon Budavári Erzsébet és Tódor Dénes tesznek ideiglenes fogadalmat.\nSzeretettel várunk mindekit a fogadalomtételre.
URL:https://fvr.hu/event/fogadalomtetel-esztergom/
LOCATION:Esztergom Ferences Templom\, Bottyán János u. 14.\, Esztergom\, 2500\, Hungary
CATEGORIES:Angyalos Boldogasszony Régió
END:VEVENT
BEGIN:VEVENT
DTSTART;VALUE=DATE:20240831
DTEND;VALUE=DATE:20240901
DTSTAMP:20260421T185517
CREATED:20240824T091230Z
LAST-MODIFIED:20240824T091616Z
UID:7802-1725062400-1725148799@fvr.hu
SUMMARY:Assisi Szent Ferenc és a MEGFESZÍTETT (Piliscsaba)
DESCRIPTION:Ferences Napok\n“Az evangéliumból az életbe – életből az evangéliumba”\nA ferences lelkiség gyökerei és kapcsolódásai a Szentírásban\nAssisi Szent Ferenc lelkisége és az Újszövetség \n\nFr. Matteo Tosti OFM (Olaszország – La Verna) előadása: \n„Szinte egészen beleolvadt abba\, aki nagy szeretetében\nkeresztre feszítette magát.” (3Társ 69.)\nAssisi Szent Ferenc és a szent sebhelyek -\nSzent Ferenc találkozása Krisztussal a szeráf képében\n10.00 Előadás\n11.30 Kérdezz-felelek\nEbédszünet\n14.30 Kiscsoportok\n16.30 Beszámolók\n17.00 Előadó reflexiója\n18.00 Szentmise
URL:https://fvr.hu/event/assisi-szent-ferenc-es-a-megfeszitett-piliscsaba/
LOCATION:Klotildligeti Plébánia\, Klotild tér 1.\, Piliscsaba\, Magyarország
CATEGORIES:Angyalos Boldogasszony Régió,országos
END:VEVENT
BEGIN:VEVENT
DTSTART;TZID=UTC:20240629T100000
DTEND;TZID=UTC:20240630T110000
DTSTAMP:20260421T185517
CREATED:20240503T130742Z
LAST-MODIFIED:20240703T111829Z
UID:3586-1719655200-1719745200@fvr.hu
SUMMARY:Lelkinap a klarisszáknál (ABR)
DESCRIPTION:Ferenc-Mária nővér elmélkedése és annak kiscsoportos feldolgozása és megosztása: \n„A bűntől megsebzett emberségünktől Szent Ferenc stigmájáig” \n  \nA testvéri együttlétet meghosszabbítani. Ezért szombat este bekapcsolódunk a ferencek esti zsolozsmájába is\, majd tűzgyújtást\, szalonnasütést\, beszélgetést tervezünk a kolostorkertben. Másnap\, vasárnap még a szentmisében is együtt lehetünk. \nSzállás a ferences rendházban. A szombat esti étkezésről és a vasárnapi reggeliről gondoskodnánk. \nJelentkezés június 7-éig a helyi miniszter testvérnél.
URL:https://fvr.hu/event/lelkinap-a-klarisszaknal/
LOCATION:Szécsény Ágacskája Klarissza Remeteség\, Haynald L. u. 15.\, Szécsény\, 3170\, Magyarország
CATEGORIES:Angyalos Boldogasszony Régió,többnapos
ATTACH;FMTTYPE=image/jpeg:https://fvr.hu/wp-content/uploads/2024/06/FerCsalKiralynojeIkon.jpg
END:VEVENT
BEGIN:VEVENT
DTSTART;VALUE=DATE:20240531
DTEND;VALUE=DATE:20240601
DTSTAMP:20260421T185517
CREATED:20240503T132437Z
LAST-MODIFIED:20240503T132544Z
UID:3588-1717113600-1717199999@fvr.hu
SUMMARY:HATÁRIDŐ - "Hogyan/miért lettem ferences?"
DESCRIPTION:Klarissza lelki napunkra szeretnénk egy lelki füzetet összeállítani.\nMondjuk el egymásnak\, hogy \n „Hogyan/miért lettem ferences?” \nLehet névvel\, név nélkül\, „jeligével”\, bárhogyan. Lehet egy mondat\, lehet fél oldal\, bármennyi. Ezt azoktól a testvérektől is szeretnénk kérni\, akik nem tudnak a lelki napra eljönni\, vagyis mindannyiunktól. Az így összeállított gondolatokat (egyszerű szerkesztéssel és sokszorosítással) mindenkihez szeretnénk eljuttatni: azokhoz a testvérekhez is\, akik már koruk\, egészségi állapotuk miatt nem tudnak a helyi közösségek találkozóin sem részt venni. \nEzeket a gondolatokat 2024. június 1. napjáig várjuk a csabajudit18@gmail.com e-mail címre. \nFigyelem! Nincs „nem fontos” gondolat!
URL:https://fvr.hu/event/hatarido-hogyan-miert-lettem-ferences/
CATEGORIES:Angyalos Boldogasszony Régió,határidő
END:VEVENT
BEGIN:VEVENT
DTSTART;TZID=UTC:20240518T100000
DTEND;TZID=UTC:20240518T180000
DTSTAMP:20260421T185517
CREATED:20240503T092055Z
LAST-MODIFIED:20240514T231558Z
UID:3572-1716026400-1716055200@fvr.hu
SUMMARY:Assisi Szent Ferenc és a bűnbánat (Piliscsaba)
DESCRIPTION:Ferences Napok\n“Az evangéliumból az életbe – életből az evangéliumba”\nA ferences lelkiség gyökerei és kapcsolódásai a Szentírásban\nAssisi Szent Ferenc lelkisége és az Újszövetség \nfr. Adriano Apollonio OFM (Olaszország) előadása \n“… a bűnbánat méltó gyümölcseit termik: ó\, milyen boldogok és áldottak azok a férfiak és nők…” (1LHív 1.4)\nAssisi Szent Ferenc és a bűnbánó élet gyümölcsei –\nKiengesztelődés Istennel és a testvérrel Szent Ferencnél \n10.00 Előadás\n11.30 Kérdezz-felelek\nEbédszünet\n13.30 Kiscsoportok\n14.45 Beszámolók\n15.30 Előadó reflexiója\n16.00 Fra Adriano\, azaz Mago Magone bűvész műsora\n17.00 Befejező Szentmise
URL:https://fvr.hu/event/assisi-szent-ferenc-es-a-bunbanat/
LOCATION:Klotildligeti Plébánia\, Klotild tér 1.\, Piliscsaba\, Magyarország
CATEGORIES:Angyalos Boldogasszony Régió
END:VEVENT
END:VCALENDAR