BEGIN:VCALENDAR
VERSION:2.0
PRODID:-//Ferences Világi Rend - ECPv6.15.20//NONSGML v1.0//EN
CALSCALE:GREGORIAN
METHOD:PUBLISH
X-WR-CALNAME:Ferences Világi Rend
X-ORIGINAL-URL:https://fvr.hu
X-WR-CALDESC:Events for Ferences Világi Rend
REFRESH-INTERVAL;VALUE=DURATION:PT1H
X-Robots-Tag:noindex
X-PUBLISHED-TTL:PT1H
BEGIN:VTIMEZONE
TZID:Europe/Budapest
BEGIN:DAYLIGHT
TZOFFSETFROM:+0100
TZOFFSETTO:+0200
TZNAME:CEST
DTSTART:20250330T010000
END:DAYLIGHT
BEGIN:STANDARD
TZOFFSETFROM:+0200
TZOFFSETTO:+0100
TZNAME:CET
DTSTART:20251026T010000
END:STANDARD
BEGIN:DAYLIGHT
TZOFFSETFROM:+0100
TZOFFSETTO:+0200
TZNAME:CEST
DTSTART:20260329T010000
END:DAYLIGHT
BEGIN:STANDARD
TZOFFSETFROM:+0200
TZOFFSETTO:+0100
TZNAME:CET
DTSTART:20261025T010000
END:STANDARD
BEGIN:DAYLIGHT
TZOFFSETFROM:+0100
TZOFFSETTO:+0200
TZNAME:CEST
DTSTART:20270328T010000
END:DAYLIGHT
BEGIN:STANDARD
TZOFFSETFROM:+0200
TZOFFSETTO:+0100
TZNAME:CET
DTSTART:20271031T010000
END:STANDARD
END:VTIMEZONE
BEGIN:VEVENT
DTSTART;VALUE=DATE:20261003
DTEND;VALUE=DATE:20261004
DTSTAMP:20260421T174058
CREATED:20260302T141000Z
LAST-MODIFIED:20260302T141000Z
UID:11160-1790985600-1791071999@fvr.hu
SUMMARY:Tranzitus megünneplése a 800. évfordulón a Ferences Családdal
DESCRIPTION:
URL:https://fvr.hu/event/tranzitus-megunneplese-a-800-evfordulon-a-ferences-csaladdal/
LOCATION:Esztergom Ferences Templom\, Bottyán János u. 14.\, Esztergom\, 2500\, Hungary
CATEGORIES:800 éves jubileum,nemzetközi,országos
ORGANIZER;CN="Orsz%C3%A1gos Tan%C3%A1cs":MAILTO:fvr.iroda@gmail.com
END:VEVENT
BEGIN:VEVENT
DTSTART;VALUE=DATE:20261117
DTEND;VALUE=DATE:20261118
DTSTAMP:20260421T174058
CREATED:20260119T204132Z
LAST-MODIFIED:20260119T204208Z
UID:10921-1794873600-1794959999@fvr.hu
SUMMARY:A ferences világi rendi szolidaritás napja
DESCRIPTION:A Ferences Világi Rend Nemzetközi Tanácsának felhívására 2025-ben első alkalommal került sor a ferences világi rendi szolidaritás napjára. \nA testvéri közösségek szabadon választhatják meg a formát\, hogy ezen a napon alamizsnát adjanak\, adománygyűjtő vagy egyéb jótékony tevékenységet folytassanak. A nap során összegyűjtött forrásokat a betegségben vagy más szükséget szenvedő testvérek és nővérek segítésére szánják!
URL:https://fvr.hu/event/a-ferences-vilagi-rendi-szolidaritas-napja-2/
CATEGORIES:nemzetközi
END:VEVENT
END:VCALENDAR