BEGIN:VCALENDAR
VERSION:2.0
PRODID:-//Ferences Világi Rend - ECPv6.15.20//NONSGML v1.0//EN
CALSCALE:GREGORIAN
METHOD:PUBLISH
X-ORIGINAL-URL:https://fvr.hu
X-WR-CALDESC:Events for Ferences Világi Rend
REFRESH-INTERVAL;VALUE=DURATION:PT1H
X-Robots-Tag:noindex
X-PUBLISHED-TTL:PT1H
BEGIN:VTIMEZONE
TZID:Europe/Budapest
BEGIN:DAYLIGHT
TZOFFSETFROM:+0100
TZOFFSETTO:+0200
TZNAME:CEST
DTSTART:20240331T010000
END:DAYLIGHT
BEGIN:STANDARD
TZOFFSETFROM:+0200
TZOFFSETTO:+0100
TZNAME:CET
DTSTART:20241027T010000
END:STANDARD
BEGIN:DAYLIGHT
TZOFFSETFROM:+0100
TZOFFSETTO:+0200
TZNAME:CEST
DTSTART:20250330T010000
END:DAYLIGHT
BEGIN:STANDARD
TZOFFSETFROM:+0200
TZOFFSETTO:+0100
TZNAME:CET
DTSTART:20251026T010000
END:STANDARD
BEGIN:DAYLIGHT
TZOFFSETFROM:+0100
TZOFFSETTO:+0200
TZNAME:CEST
DTSTART:20260329T010000
END:DAYLIGHT
BEGIN:STANDARD
TZOFFSETFROM:+0200
TZOFFSETTO:+0100
TZNAME:CET
DTSTART:20261025T010000
END:STANDARD
END:VTIMEZONE
BEGIN:VEVENT
DTSTART;VALUE=DATE:20250802
DTEND;VALUE=DATE:20250803
DTSTAMP:20260422T110737
CREATED:20250802T090933Z
LAST-MODIFIED:20250929T181848Z
UID:8749-1754092800-1754179199@fvr.hu
SUMMARY:Porciunkula búcsú Bodajkon
DESCRIPTION:SZENTÉVI PORCIUNKULA BÚCSÚ BODAJKON \nAugusztus 2.\, a Porciunkula búcsú idén szombatra esik. Ez is kedvező körülmény\narra\, hogy a Világi Rend lelki napot szervezzen Bodajkra\, a megújított kegyhelyre\,\namely a szentévi búcsú kiemelt helyszíne is a Fehérvári Egyházmegyében.\nSzeretettel várjuk az Angyalos Boldogasszony Régió közösségeit – hiszen Bodajk az\nebben a régióban van – de a többi közösséget is hívjuk. \nA búcsúi lelki nap programja: \n9.30 zarándokok fogadása\n10.00 napközi imaóra\n10.15 előadás: „Az öröm és remény hirnökei” fr. Jeromos OFM atya\n11.00 a kegyhely bemutatása\n12.00 szentmise\nutána ebédszünet. Ebéd batyuból a zarándokudvaron.\n14.30 orgonakoncert\n15.00 Magóné Hegyháti Erika OFS előadása: A remény hírnökeként\nszolgálva a legkisebbek között. Egy szolgáló élet tapasztalatai\n16.00 keresztút\n17.00 hazaindulás \nGyóntatnak a kegyhely atyái a helyszínen hirdetett időszakban. \nA kegyhely zarándokudvarán fedett\, árnyékos hely van. A Religio kegytárgybolt nyitva a délutáni programig.\nA zarándokudvaron mosdó is van.
URL:https://fvr.hu/event/porciunkula-bucsu-bodajkon/
LOCATION:Bodajk Segítő Szűz Mária kegyhely\, Bodajki Segítő Szűz Mária-kegytemplom\, Bodajk\, Szent István tér 1\, 8053\, Bodajk\, 8053\, Hungary
CATEGORIES:Angyalos Boldogasszony Régió,országos
END:VEVENT
END:VCALENDAR