BEGIN:VCALENDAR
VERSION:2.0
PRODID:-//Ferences Világi Rend - ECPv6.15.20//NONSGML v1.0//EN
CALSCALE:GREGORIAN
METHOD:PUBLISH
X-WR-CALNAME:Ferences Világi Rend
X-ORIGINAL-URL:https://fvr.hu
X-WR-CALDESC:Events for Ferences Világi Rend
REFRESH-INTERVAL;VALUE=DURATION:PT1H
X-Robots-Tag:noindex
X-PUBLISHED-TTL:PT1H
BEGIN:VTIMEZONE
TZID:Europe/Budapest
BEGIN:DAYLIGHT
TZOFFSETFROM:+0100
TZOFFSETTO:+0200
TZNAME:CEST
DTSTART:20240331T010000
END:DAYLIGHT
BEGIN:STANDARD
TZOFFSETFROM:+0200
TZOFFSETTO:+0100
TZNAME:CET
DTSTART:20241027T010000
END:STANDARD
BEGIN:DAYLIGHT
TZOFFSETFROM:+0100
TZOFFSETTO:+0200
TZNAME:CEST
DTSTART:20250330T010000
END:DAYLIGHT
BEGIN:STANDARD
TZOFFSETFROM:+0200
TZOFFSETTO:+0100
TZNAME:CET
DTSTART:20251026T010000
END:STANDARD
BEGIN:DAYLIGHT
TZOFFSETFROM:+0100
TZOFFSETTO:+0200
TZNAME:CEST
DTSTART:20260329T010000
END:DAYLIGHT
BEGIN:STANDARD
TZOFFSETFROM:+0200
TZOFFSETTO:+0100
TZNAME:CET
DTSTART:20261025T010000
END:STANDARD
END:VTIMEZONE
BEGIN:VEVENT
DTSTART;VALUE=DATE:20250812
DTEND;VALUE=DATE:20250816
DTSTAMP:20260422T122633
CREATED:20250812T100355Z
LAST-MODIFIED:20250929T181930Z
UID:8997-1754956800-1755302399@fvr.hu
SUMMARY:Ferences gyalogos zarándoklat
DESCRIPTION:“Lépj ki a mindennapokból\, és tarts velünk..” \nFerences gyalogos zarándoklat lesz 2025. augusztus 12-15. \nGyöngyös – Mátraszentimre – Szentkút \n  \n(Részletek később)
URL:https://fvr.hu/event/ferences-gyalogos-zarandoklat/
CATEGORIES:országos,többnapos
END:VEVENT
END:VCALENDAR