BEGIN:VCALENDAR
VERSION:2.0
PRODID:-//Ferences Világi Rend - ECPv6.15.20//NONSGML v1.0//EN
CALSCALE:GREGORIAN
METHOD:PUBLISH
X-ORIGINAL-URL:https://fvr.hu
X-WR-CALDESC:Events for Ferences Világi Rend
REFRESH-INTERVAL;VALUE=DURATION:PT1H
X-Robots-Tag:noindex
X-PUBLISHED-TTL:PT1H
BEGIN:VTIMEZONE
TZID:Europe/Budapest
BEGIN:DAYLIGHT
TZOFFSETFROM:+0100
TZOFFSETTO:+0200
TZNAME:CEST
DTSTART:20230326T010000
END:DAYLIGHT
BEGIN:STANDARD
TZOFFSETFROM:+0200
TZOFFSETTO:+0100
TZNAME:CET
DTSTART:20231029T010000
END:STANDARD
BEGIN:DAYLIGHT
TZOFFSETFROM:+0100
TZOFFSETTO:+0200
TZNAME:CEST
DTSTART:20240331T010000
END:DAYLIGHT
BEGIN:STANDARD
TZOFFSETFROM:+0200
TZOFFSETTO:+0100
TZNAME:CET
DTSTART:20241027T010000
END:STANDARD
BEGIN:DAYLIGHT
TZOFFSETFROM:+0100
TZOFFSETTO:+0200
TZNAME:CEST
DTSTART:20250330T010000
END:DAYLIGHT
BEGIN:STANDARD
TZOFFSETFROM:+0200
TZOFFSETTO:+0100
TZNAME:CET
DTSTART:20251026T010000
END:STANDARD
BEGIN:DAYLIGHT
TZOFFSETFROM:+0100
TZOFFSETTO:+0200
TZNAME:CEST
DTSTART:20260329T010000
END:DAYLIGHT
BEGIN:STANDARD
TZOFFSETFROM:+0200
TZOFFSETTO:+0100
TZNAME:CET
DTSTART:20261025T010000
END:STANDARD
END:VTIMEZONE
BEGIN:VEVENT
DTSTART;VALUE=DATE:20250517
DTEND;VALUE=DATE:20250518
DTSTAMP:20260421T222408
CREATED:20250517T203131Z
LAST-MODIFIED:20250929T181805Z
UID:9196-1747440000-1747526399@fvr.hu
SUMMARY:Páduai Szent Antal Régió szentévi zarándoklata
DESCRIPTION:Program: \n– 1/2 10 órakor gyülekező Szeged Alsóvárosi rendház.\n– 10 órakor egy rövid ráhangoló előadás (Antal atyát kérnénk fel)\n– 11-től bűnbánati liturgia\, gyónási lehetőséggel ( hogy teljes búcsút nyerhessünk. Mivel  a templom foglalt lesz\, így ezt a rendházban valahol megoldjuk)\n– délben zsolozsma és gyors ebéd. Az utolsó pillanatig is változó létszám miatt az ebéd különböző krémekkel és egyéb feltétekkel kiegészített szendvics lenne\, mely készítését a szegedi közösség vállalta.\n– 13.00\, max 13.15-kor elindulás gyalogosan a Dómba\, kereszt vezetésével énekelve\, imádkozva.\n– 14 órakor szentmise a szegedi Dómban.\nA szentmise után Kiss Norbi testvérünk ismertetőt tartana a Dómban.
URL:https://fvr.hu/event/paduai-szent-antal-regio-szentevi-zarandoklata/
LOCATION:Szeged-Alsóvárosi Ferences Plébánia
CATEGORIES:Páduai Szent Antal Régió
END:VEVENT
BEGIN:VEVENT
DTSTART;TZID=Europe/Budapest:20240803T133000
DTEND;TZID=Europe/Budapest:20240804T190000
DTSTAMP:20260421T222408
CREATED:20240706T184350Z
LAST-MODIFIED:20240707T172613Z
UID:5231-1722691800-1722798000@fvr.hu
SUMMARY:Szeged-Alsóváros Havas Boldogasszony búcsú
DESCRIPTION:Havas Boldogasszony búcsú
URL:https://fvr.hu/event/szeged-alsovaros-havas-boldogasszony-bucsu/
LOCATION:Szeged-Alsóvárosi Ferences Plébánia
CATEGORIES:Páduai Szent Antal Régió,többnapos
END:VEVENT
END:VCALENDAR