BEGIN:VCALENDAR
VERSION:2.0
PRODID:-//Ferences Világi Rend - ECPv6.15.20//NONSGML v1.0//EN
CALSCALE:GREGORIAN
METHOD:PUBLISH
X-WR-CALNAME:Ferences Világi Rend
X-ORIGINAL-URL:https://fvr.hu
X-WR-CALDESC:Events for Ferences Világi Rend
REFRESH-INTERVAL;VALUE=DURATION:PT1H
X-Robots-Tag:noindex
X-PUBLISHED-TTL:PT1H
BEGIN:VTIMEZONE
TZID:Europe/Budapest
BEGIN:DAYLIGHT
TZOFFSETFROM:+0100
TZOFFSETTO:+0200
TZNAME:CEST
DTSTART:20250330T010000
END:DAYLIGHT
BEGIN:STANDARD
TZOFFSETFROM:+0200
TZOFFSETTO:+0100
TZNAME:CET
DTSTART:20251026T010000
END:STANDARD
BEGIN:DAYLIGHT
TZOFFSETFROM:+0100
TZOFFSETTO:+0200
TZNAME:CEST
DTSTART:20260329T010000
END:DAYLIGHT
BEGIN:STANDARD
TZOFFSETFROM:+0200
TZOFFSETTO:+0100
TZNAME:CET
DTSTART:20261025T010000
END:STANDARD
BEGIN:DAYLIGHT
TZOFFSETFROM:+0100
TZOFFSETTO:+0200
TZNAME:CEST
DTSTART:20270328T010000
END:DAYLIGHT
BEGIN:STANDARD
TZOFFSETFROM:+0200
TZOFFSETTO:+0100
TZNAME:CET
DTSTART:20271031T010000
END:STANDARD
END:VTIMEZONE
BEGIN:VEVENT
DTSTART;TZID=Europe/Budapest:20260427T080000
DTEND;TZID=Europe/Budapest:20260525T170000
DTSTAMP:20260424T101909
CREATED:20260423T152749Z
LAST-MODIFIED:20260424T071123Z
UID:11329-1777276800-1779728400@fvr.hu
SUMMARY:Pünkösdi ferences hétköznapi lelkigyakorlat
DESCRIPTION:Pünkösdi lelkigyakorlat\nSzent Ferenc kíséretében\n\nSzeretettel hívjuk minden testvérünket egy közös pünkösdi készületre! \nEz a négy hét a hétköznapok sodrásában végezhető lelkigyakorlat\, melyen Szent Ferenc atyánkat hívjuk társul\, hogy segítségével elmélyítsük nyitottságunkat a Szentlélek vezetése iránt. \nA lelkigyakorlat a mindennapokba ágyazott\, otthoni személyes imádságra épül. \nAkkor válik valódi\, életformáló tapasztalattá\, ha nap\, mint nap időt szentelünk a csendnek\, és figyelmes szívvel vagyunk jelen Isten előtt\, reflektálva Istennel való kapcsolatunkra és az imádságra. \nIdőtartam: 2026. április 27. – május 25. (4 hét) \nHelyszín: Otthoni imádság és közös közösségi alkalmak \nKét formát kínálunk a részvételre: \n\nEgyéni út – kötöttségek nélkül\n\nHa a saját tempódban haladnál\, a lelkigyakorlat heti bontású tartalma szombat estétől elérhető az fvr.hu oldalon és a Facebook oldalunkon: https://www.facebook.com/profile.php?id=100064767966029Egyéni végzéshez nem szükséges jelentkezés. \n\nKísért út – Támogatott készület\n\nAzoknak ajánljuk\, akik szeretnének közösségi kereteket és rendszeres emailes emlékeztetőt a készületükhöz.\nMit tartalmaz a kísért forma? \nHeti útravaló: Az aktuális anyagok és inspirációk e-mailben érkeznek hozzád. \nKözös nyitóalkalom: Személyes ráhangolódás a Sapientián \nOnline kiscsoport: Lehetőség heti megosztásra azoknak\, akiknek nincs saját közösségük (részletek az űrlapon). \n\n👉 Jelentkezem a kísért lelkigyakorlatra:\nhttps://forms.gle/VfZivmRK38edTpw1A\n\nJelentkezési határidő: 2026. április 24. (péntek) \nKözös mérföldkövek: \n\nNyitóalkalom (Jelentkezőknek): 2026.  25-én a Sapientia Szerzetesi Hittudományi Főiskolan (1052 Budapest\, Piarista köz 1.) délután 15 órakor találkozunk. Itt megoszthatjuk\, kiben mi indította el a vágyat az útra\, és együtt hangolódunk rá a közös folyamatra. Az alkalomra online is be lehet kapcsolódni– kérjük\, az űrlapon jelezd\, ha ezt a formát választod!\nZáró ünnep (Mindenki számára nyitott!): Pünkösd hétvégéjén nagy szeretettel hívunk minden testvért egy közös budapesti ünneplésre. Külön hívjuk azokat\, akik velünk tartottak a lelkigyakorlatos úton\, hogy együtt adjunk hálát a kapott kegyelmekért. (A részletekről később adunk hírt.)\n\nKezdd el a ráhangolódást: olvasd el a lelkigyakorlat bevezető gondolatait már most: \nhttps://drive.google.com/file/d/1LazfsniP2AzOj6_rPdoA0gOxGqKEJ0FC/view?usp=sharing \nBármilyen kérdés vagy észrevétel esetén keressetek minket az angyalosboldogasszony@gmail.com emailcímen. \nTestvéri szeretettel és imával: \nPax et Bonum!
URL:https://fvr.hu/event/punkosdi-ferences-hetkoznapi-lelkigyakorlat/
END:VEVENT
BEGIN:VEVENT
DTSTART;TZID=Europe/Budapest:20260530T100000
DTEND;TZID=Europe/Budapest:20260530T160000
DTSTAMP:20260424T101909
CREATED:20260302T135906Z
LAST-MODIFIED:20260302T140453Z
UID:11154-1780135200-1780156800@fvr.hu
SUMMARY:ABR lelkinap a klarissza nővéreknél
DESCRIPTION:
URL:https://fvr.hu/event/abr-lelkinap-a-klarissza-novereknel/
LOCATION:Szécsény Ágacskája Klarissza Remeteség\, Haynald L. u. 15.\, Szécsény\, 3170\, Magyarország
CATEGORIES:Angyalos Boldogasszony Régió
ORGANIZER;CN="Sz%C3%A9cs%C3%A9ny %C3%81gacsk%C3%A1ja Klarissza Remetes%C3%A9g":MAILTO:klarisszak.szecseny@gmail.com
END:VEVENT
BEGIN:VEVENT
DTSTART;VALUE=DATE:20260716
DTEND;VALUE=DATE:20260720
DTSTAMP:20260424T101909
CREATED:20260302T140234Z
LAST-MODIFIED:20260302T140520Z
UID:11156-1784160000-1784505599@fvr.hu
SUMMARY:Ferences Ifjúsági Találkozó
DESCRIPTION:
URL:https://fvr.hu/event/ferences-ifjusagi-talalkozo/
CATEGORIES:országos,többnapos
END:VEVENT
BEGIN:VEVENT
DTSTART;TZID=Europe/Budapest:20260723T150000
DTEND;TZID=Europe/Budapest:20260726T130000
DTSTAMP:20260424T101909
CREATED:20260119T203830Z
LAST-MODIFIED:20260119T203830Z
UID:10918-1784818800-1785070800@fvr.hu
SUMMARY:Országos Káptalan 2026
DESCRIPTION:  \njúlius 23.\, csütörtök \njúlius 24.\, péntek \njúlius 25.\, szombat \njúlius 26.\, vasárnap
URL:https://fvr.hu/event/orszagos-kaptalan-2026/
LOCATION:Esztergom Ferences Kolostor\, Szent Antal Esztergomi Ferences Gimnázium és Kollégium\, Bottyán János u. 10\, Esztergom\, Komárom-Esztergom\, 2024\, Hungary
CATEGORIES:országos,többnapos
ORGANIZER;CN="Orsz%C3%A1gos Tan%C3%A1cs":MAILTO:fvr.iroda@gmail.com
END:VEVENT
BEGIN:VEVENT
DTSTART;TZID=Europe/Budapest:20260801T100000
DTEND;TZID=Europe/Budapest:20260801T160000
DTSTAMP:20260424T101909
CREATED:20260315T124639Z
LAST-MODIFIED:20260315T124639Z
UID:11194-1785578400-1785600000@fvr.hu
SUMMARY:Porciunkula búcsú Bodajkon
DESCRIPTION:10h-tól az ünnepi szentmisét fr. Barsi Balázs OFM atya celebrálja\, \nmajd a nap során tanítás\, tanúságtétel\, közös imaóra\, batyus ebéd\, keresztút lesz 16 óráig
URL:https://fvr.hu/event/porciunkula-bucsu-bodajkon-2/
LOCATION:Bodajk Segítő Szűz Mária kegyhely\, Bodajki Segítő Szűz Mária-kegytemplom\, Bodajk\, Szent István tér 1\, 8053\, Bodajk\, 8053\, Hungary
END:VEVENT
BEGIN:VEVENT
DTSTART;VALUE=DATE:20261003
DTEND;VALUE=DATE:20261004
DTSTAMP:20260424T101909
CREATED:20260302T141000Z
LAST-MODIFIED:20260302T141000Z
UID:11160-1790985600-1791071999@fvr.hu
SUMMARY:Tranzitus megünneplése a 800. évfordulón a Ferences Családdal
DESCRIPTION:
URL:https://fvr.hu/event/tranzitus-megunneplese-a-800-evfordulon-a-ferences-csaladdal/
LOCATION:Esztergom Ferences Templom\, Bottyán János u. 14.\, Esztergom\, 2500\, Hungary
CATEGORIES:800 éves jubileum,nemzetközi,országos
ORGANIZER;CN="Orsz%C3%A1gos Tan%C3%A1cs":MAILTO:fvr.iroda@gmail.com
END:VEVENT
BEGIN:VEVENT
DTSTART;TZID=Europe/Budapest:20261010T100000
DTEND;TZID=Europe/Budapest:20261010T150000
DTSTAMP:20260424T101909
CREATED:20260302T141217Z
LAST-MODIFIED:20260302T141217Z
UID:11162-1791626400-1791644400@fvr.hu
SUMMARY:FVR országos képzési nap
DESCRIPTION:MINISZTEREK\, KÉPZÉSI FELELŐSÖK ÉS MINDEN ÉRDEKLŐDŐ TALÁLKOZÓJA \n 
URL:https://fvr.hu/event/fvr-orszagos-kepzesi-nap-2/
LOCATION:Belvárosi Ferences templom\, Bp. Ferenciek tere\, Ferenciek tere 9.\, Budapest\, 1053\, Hungary
CATEGORIES:országos
ORGANIZER;CN="Orsz%C3%A1gos Tan%C3%A1cs":MAILTO:fvr.iroda@gmail.com
END:VEVENT
BEGIN:VEVENT
DTSTART;VALUE=DATE:20261115
DTEND;VALUE=DATE:20261120
DTSTAMP:20260424T101909
CREATED:20260302T141636Z
LAST-MODIFIED:20260302T141636Z
UID:11164-1794700800-1795132799@fvr.hu
SUMMARY:Zarándoklat Rómába
DESCRIPTION:
URL:https://fvr.hu/event/zarandoklat-romaba/
CATEGORIES:800 éves jubileum,országos,többnapos
ORGANIZER;CN="Orsz%C3%A1gos Tan%C3%A1cs":MAILTO:fvr.iroda@gmail.com
END:VEVENT
BEGIN:VEVENT
DTSTART;VALUE=DATE:20261117
DTEND;VALUE=DATE:20261118
DTSTAMP:20260424T101909
CREATED:20260119T204132Z
LAST-MODIFIED:20260119T204208Z
UID:10921-1794873600-1794959999@fvr.hu
SUMMARY:A ferences világi rendi szolidaritás napja
DESCRIPTION:A Ferences Világi Rend Nemzetközi Tanácsának felhívására 2025-ben első alkalommal került sor a ferences világi rendi szolidaritás napjára. \nA testvéri közösségek szabadon választhatják meg a formát\, hogy ezen a napon alamizsnát adjanak\, adománygyűjtő vagy egyéb jótékony tevékenységet folytassanak. A nap során összegyűjtött forrásokat a betegségben vagy más szükséget szenvedő testvérek és nővérek segítésére szánják!
URL:https://fvr.hu/event/a-ferences-vilagi-rendi-szolidaritas-napja-2/
CATEGORIES:nemzetközi
END:VEVENT
BEGIN:VEVENT
DTSTART;VALUE=DATE:20261127
DTEND;VALUE=DATE:20261130
DTSTAMP:20260424T101909
CREATED:20260302T142027Z
LAST-MODIFIED:20260302T142027Z
UID:11166-1795737600-1795996799@fvr.hu
SUMMARY:Ferences Család Találkozó
DESCRIPTION:November 27. péntek\n14.00 órától – érkezés\, regisztráció\, szállás elfoglalása\n14:30-16:00 – \n16.30 – szentmise (Bazilika)\n17.30 – esti dicséret – azt követően rövid\, hangolódó kisfilm megtekintése (Bazilika)\n18.00 – vacsora (Szent Anna közösségi terem)\n19.00 – \n20.10 – \nAnna közösségi terem) \nNovember 28. szombat\n6.50 – reggeli dicséret (Bazilika)\n8.00 – reggeli (Szent Anna közösségi terem)\n9.00 – 16.00 \n9:00 – 12.30 \n12.30 – 14.00 ebéd\, pihenés\n14.00 – 16.00 \n16.30 – szentmise (ajándékozás – természetfotók)\n17.30 – esti dicséret (Bazilika)\n18.00 – vacsora (Szent Anna közösségi terem)\n19.00  \nNovember 29. vasárnap\n7.30 – reggeli dicséret (Bazilika)\n8.00 – reggeli (Szent Anna közösségi terem)\n9.30 – 10.30 – zenés dicsőítés – Szent Ferenc Kisnővérei (Szent Anna közösségi terem)\n11.00 – szentmise a szokásos kegyhelyi vasárnapi\n12.30 – ebéd\, majd hazautazás
URL:https://fvr.hu/event/ferences-csalad-talalkozo-3/
LOCATION:Máraverebély-Szentkút\, 14\, Máraverebély-Szentkút\, 3077\, Hungary
CATEGORIES:országos,többnapos
ORGANIZER;CN="Orsz%C3%A1gos Tan%C3%A1cs":MAILTO:fvr.iroda@gmail.com
END:VEVENT
END:VCALENDAR