BEGIN:VCALENDAR
VERSION:2.0
PRODID:-//Ferences Világi Rend - ECPv6.15.20//NONSGML v1.0//EN
CALSCALE:GREGORIAN
METHOD:PUBLISH
X-WR-CALNAME:Ferences Világi Rend
X-ORIGINAL-URL:https://fvr.hu
X-WR-CALDESC:Events for Ferences Világi Rend
REFRESH-INTERVAL;VALUE=DURATION:PT1H
X-Robots-Tag:noindex
X-PUBLISHED-TTL:PT1H
BEGIN:VTIMEZONE
TZID:Europe/Budapest
BEGIN:DAYLIGHT
TZOFFSETFROM:+0100
TZOFFSETTO:+0200
TZNAME:CEST
DTSTART:20230326T010000
END:DAYLIGHT
BEGIN:STANDARD
TZOFFSETFROM:+0200
TZOFFSETTO:+0100
TZNAME:CET
DTSTART:20231029T010000
END:STANDARD
BEGIN:DAYLIGHT
TZOFFSETFROM:+0100
TZOFFSETTO:+0200
TZNAME:CEST
DTSTART:20240331T010000
END:DAYLIGHT
BEGIN:STANDARD
TZOFFSETFROM:+0200
TZOFFSETTO:+0100
TZNAME:CET
DTSTART:20241027T010000
END:STANDARD
BEGIN:DAYLIGHT
TZOFFSETFROM:+0100
TZOFFSETTO:+0200
TZNAME:CEST
DTSTART:20250330T010000
END:DAYLIGHT
BEGIN:STANDARD
TZOFFSETFROM:+0200
TZOFFSETTO:+0100
TZNAME:CET
DTSTART:20251026T010000
END:STANDARD
END:VTIMEZONE
BEGIN:VTIMEZONE
TZID:UTC
BEGIN:STANDARD
TZOFFSETFROM:+0000
TZOFFSETTO:+0000
TZNAME:UTC
DTSTART:20230101T000000
END:STANDARD
END:VTIMEZONE
BEGIN:VEVENT
DTSTART;VALUE=DATE:20240705
DTEND;VALUE=DATE:20240708
DTSTAMP:20260423T000201
CREATED:20240712T140702Z
LAST-MODIFIED:20240712T140702Z
UID:5812-1720137600-1720396799@fvr.hu
SUMMARY:Sarlós Boldogasszony Régió lelkigyakorlata
DESCRIPTION:
URL:https://fvr.hu/event/sarlos-boldogasszony-regio-lelkigyakorlata/
LOCATION:Sümegi Sarlós Boldogasszony Ferences Templom\, Szent István tér 7.\, Sümeg\, 8330\, Hungary
CATEGORIES:Sarlós Boldogasszony Régió,többnapos
END:VEVENT
BEGIN:VEVENT
DTSTART;TZID=UTC:20240629T100000
DTEND;TZID=UTC:20240630T110000
DTSTAMP:20260423T000201
CREATED:20240503T130742Z
LAST-MODIFIED:20240703T111829Z
UID:3586-1719655200-1719745200@fvr.hu
SUMMARY:Lelkinap a klarisszáknál (ABR)
DESCRIPTION:Ferenc-Mária nővér elmélkedése és annak kiscsoportos feldolgozása és megosztása: \n„A bűntől megsebzett emberségünktől Szent Ferenc stigmájáig” \n  \nA testvéri együttlétet meghosszabbítani. Ezért szombat este bekapcsolódunk a ferencek esti zsolozsmájába is\, majd tűzgyújtást\, szalonnasütést\, beszélgetést tervezünk a kolostorkertben. Másnap\, vasárnap még a szentmisében is együtt lehetünk. \nSzállás a ferences rendházban. A szombat esti étkezésről és a vasárnapi reggeliről gondoskodnánk. \nJelentkezés június 7-éig a helyi miniszter testvérnél.
URL:https://fvr.hu/event/lelkinap-a-klarisszaknal/
LOCATION:Szécsény Ágacskája Klarissza Remeteség\, Haynald L. u. 15.\, Szécsény\, 3170\, Magyarország
CATEGORIES:Angyalos Boldogasszony Régió,többnapos
ATTACH;FMTTYPE=image/jpeg:https://fvr.hu/wp-content/uploads/2024/06/FerCsalKiralynojeIkon.jpg
END:VEVENT
BEGIN:VEVENT
DTSTART;VALUE=DATE:20240531
DTEND;VALUE=DATE:20240601
DTSTAMP:20260423T000201
CREATED:20240503T132437Z
LAST-MODIFIED:20240503T132544Z
UID:3588-1717113600-1717199999@fvr.hu
SUMMARY:HATÁRIDŐ - "Hogyan/miért lettem ferences?"
DESCRIPTION:Klarissza lelki napunkra szeretnénk egy lelki füzetet összeállítani.\nMondjuk el egymásnak\, hogy \n „Hogyan/miért lettem ferences?” \nLehet névvel\, név nélkül\, „jeligével”\, bárhogyan. Lehet egy mondat\, lehet fél oldal\, bármennyi. Ezt azoktól a testvérektől is szeretnénk kérni\, akik nem tudnak a lelki napra eljönni\, vagyis mindannyiunktól. Az így összeállított gondolatokat (egyszerű szerkesztéssel és sokszorosítással) mindenkihez szeretnénk eljuttatni: azokhoz a testvérekhez is\, akik már koruk\, egészségi állapotuk miatt nem tudnak a helyi közösségek találkozóin sem részt venni. \nEzeket a gondolatokat 2024. június 1. napjáig várjuk a csabajudit18@gmail.com e-mail címre. \nFigyelem! Nincs „nem fontos” gondolat!
URL:https://fvr.hu/event/hatarido-hogyan-miert-lettem-ferences/
LOCATION:Somogy
CATEGORIES:Angyalos Boldogasszony Régió,határidő
END:VEVENT
BEGIN:VEVENT
DTSTART;TZID=UTC:20240518T100000
DTEND;TZID=UTC:20240518T180000
DTSTAMP:20260423T000201
CREATED:20240503T092055Z
LAST-MODIFIED:20240514T231558Z
UID:3572-1716026400-1716055200@fvr.hu
SUMMARY:Assisi Szent Ferenc és a bűnbánat (Piliscsaba)
DESCRIPTION:Ferences Napok\n“Az evangéliumból az életbe – életből az evangéliumba”\nA ferences lelkiség gyökerei és kapcsolódásai a Szentírásban\nAssisi Szent Ferenc lelkisége és az Újszövetség \nfr. Adriano Apollonio OFM (Olaszország) előadása \n“… a bűnbánat méltó gyümölcseit termik: ó\, milyen boldogok és áldottak azok a férfiak és nők…” (1LHív 1.4)\nAssisi Szent Ferenc és a bűnbánó élet gyümölcsei –\nKiengesztelődés Istennel és a testvérrel Szent Ferencnél \n10.00 Előadás\n11.30 Kérdezz-felelek\nEbédszünet\n13.30 Kiscsoportok\n14.45 Beszámolók\n15.30 Előadó reflexiója\n16.00 Fra Adriano\, azaz Mago Magone bűvész műsora\n17.00 Befejező Szentmise
URL:https://fvr.hu/event/assisi-szent-ferenc-es-a-bunbanat/
LOCATION:Klotildligeti Plébánia\, Klotild tér 1.\, Piliscsaba\, Magyarország
CATEGORIES:Angyalos Boldogasszony Régió
END:VEVENT
BEGIN:VEVENT
DTSTART;TZID=Europe/Budapest:20240514T080000
DTEND;TZID=Europe/Budapest:20240514T170000
DTSTAMP:20260423T000201
CREATED:20240514T220455Z
LAST-MODIFIED:20240515T225019Z
UID:3936-1715673600-1715706000@fvr.hu
SUMMARY:Folytatódik a jubileumi programsorozat az esztergomi Ferences Templomban
DESCRIPTION:A 800 éves ferences jubileum alkalmából az esztergomi Ferences Templomban Szent Ferenc Lelki életének Iskolája indul 2024 február 8-ától pünkösdig\, kéthetente csütörtök esténként 18.30-tól.  \n\n\nországos
URL:https://fvr.hu/event/folytatodik-a-jubileumi-programsorozat-az-esztergomi-ferences-templomban/
LOCATION:Esztergom Ferences Kolostor\, Szent Antal Esztergomi Ferences Gimnázium és Kollégium\, Bottyán János u. 10\, Esztergom\, Komárom-Esztergom\, 2024\, Hungary
CATEGORIES:országos
ORGANIZER;CN="Orsz%C3%A1gos Tan%C3%A1cs":MAILTO:fvr.iroda@gmail.com
END:VEVENT
END:VCALENDAR