BEGIN:VCALENDAR
VERSION:2.0
PRODID:-//Ferences Világi Rend - ECPv6.15.20//NONSGML v1.0//EN
CALSCALE:GREGORIAN
METHOD:PUBLISH
X-ORIGINAL-URL:https://fvr.hu
X-WR-CALDESC:Events for Ferences Világi Rend
REFRESH-INTERVAL;VALUE=DURATION:PT1H
X-Robots-Tag:noindex
X-PUBLISHED-TTL:PT1H
BEGIN:VTIMEZONE
TZID:Europe/Budapest
BEGIN:DAYLIGHT
TZOFFSETFROM:+0100
TZOFFSETTO:+0200
TZNAME:CEST
DTSTART:20240331T010000
END:DAYLIGHT
BEGIN:STANDARD
TZOFFSETFROM:+0200
TZOFFSETTO:+0100
TZNAME:CET
DTSTART:20241027T010000
END:STANDARD
BEGIN:DAYLIGHT
TZOFFSETFROM:+0100
TZOFFSETTO:+0200
TZNAME:CEST
DTSTART:20250330T010000
END:DAYLIGHT
BEGIN:STANDARD
TZOFFSETFROM:+0200
TZOFFSETTO:+0100
TZNAME:CET
DTSTART:20251026T010000
END:STANDARD
BEGIN:DAYLIGHT
TZOFFSETFROM:+0100
TZOFFSETTO:+0200
TZNAME:CEST
DTSTART:20260329T010000
END:DAYLIGHT
BEGIN:STANDARD
TZOFFSETFROM:+0200
TZOFFSETTO:+0100
TZNAME:CET
DTSTART:20261025T010000
END:STANDARD
END:VTIMEZONE
BEGIN:VEVENT
DTSTART;TZID=Europe/Budapest:20250920T100000
DTEND;TZID=Europe/Budapest:20250920T173000
DTSTAMP:20260422T061207
CREATED:20250920T110717Z
LAST-MODIFIED:20250929T181950Z
UID:8397-1758362400-1758389400@fvr.hu
SUMMARY:Ferences Napok\, képzés Piliscsabán
DESCRIPTION:“Az evangéliumból az életbe – életből az evangéliumba” \n 
URL:https://fvr.hu/event/ferences-napok-kepzes-piliscsaban-3/
LOCATION:Klotildligeti Plébánia\, Klotild tér 1.\, Piliscsaba\, Magyarország
CATEGORIES:Angyalos Boldogasszony Régió
ATTACH;FMTTYPE=application/pdf:https://fvr.hu/wp-content/uploads/2024/12/2023-2025-Ferences-napok-plakat-11-tomoritett.pdf
END:VEVENT
END:VCALENDAR