BEGIN:VCALENDAR
VERSION:2.0
PRODID:-//Ferences Világi Rend - ECPv6.15.20//NONSGML v1.0//EN
CALSCALE:GREGORIAN
METHOD:PUBLISH
X-WR-CALNAME:Ferences Világi Rend
X-ORIGINAL-URL:https://fvr.hu
X-WR-CALDESC:Events for Ferences Világi Rend
REFRESH-INTERVAL;VALUE=DURATION:PT1H
X-Robots-Tag:noindex
X-PUBLISHED-TTL:PT1H
BEGIN:VTIMEZONE
TZID:Europe/Budapest
BEGIN:DAYLIGHT
TZOFFSETFROM:+0100
TZOFFSETTO:+0200
TZNAME:CEST
DTSTART:20250330T010000
END:DAYLIGHT
BEGIN:STANDARD
TZOFFSETFROM:+0200
TZOFFSETTO:+0100
TZNAME:CET
DTSTART:20251026T010000
END:STANDARD
BEGIN:DAYLIGHT
TZOFFSETFROM:+0100
TZOFFSETTO:+0200
TZNAME:CEST
DTSTART:20260329T010000
END:DAYLIGHT
BEGIN:STANDARD
TZOFFSETFROM:+0200
TZOFFSETTO:+0100
TZNAME:CET
DTSTART:20261025T010000
END:STANDARD
BEGIN:DAYLIGHT
TZOFFSETFROM:+0100
TZOFFSETTO:+0200
TZNAME:CEST
DTSTART:20270328T010000
END:DAYLIGHT
BEGIN:STANDARD
TZOFFSETFROM:+0200
TZOFFSETTO:+0100
TZNAME:CET
DTSTART:20271031T010000
END:STANDARD
END:VTIMEZONE
BEGIN:VEVENT
DTSTART;TZID=Europe/Budapest:20260328T090000
DTEND;TZID=Europe/Budapest:20260328T140000
DTSTAMP:20260421T202941
CREATED:20260311T105414Z
LAST-MODIFIED:20260311T105414Z
UID:11188-1774688400-1774706400@fvr.hu
SUMMARY:Zarándoklat Budapesten (regisztrációt kérünk!)
DESCRIPTION:Virágvasárnap előtti szombaton a Ferences Ifjúság zarándoklatot szervez Budapesten\, a Ferenciek terétől a pasaréti templomig gyalogolunk. Korhatár nélkül lehet jelentkezni\, akár a program egy részére is. Az idősebb testvéreket is szeretettel várjuk\, hiszen az egyik cél pont az\, hogy aki kevesebbet tud gyalogolni\, az út egy részét tömegközlekedéssel tudja megtenni. Természetesen nem csak a világi rendi testvérek számára érvényes a meghívás\, hanem a szerzetesek számára is. Nagyon szép alkalom lesz ez a húsvét illetve a májusi ígérettétel előtt\, amely az első magyarországi YouFra közösség hivatalos megalakulásának kezdete lehet.\n\nA zarándoklatot szentmisével kezdjük a Ferenciek terén\, reggel 9 órakor. Innen indulunk tovább\, hogy imádsággal és énekkel járjuk be a várost. Úti célunk a Pasaréti szentségimádás\, ahol közösen zárjuk a napot. A teljes útvonal 10\,2 km hosszú. Az útvonal részleteit az alábbi linken találod: https://maps.app.goo.gl/YebD6eQBXQdbtWqK6?g_st=ac \n\nFONTOS!\nKérjük\, hogy aki jön\, regisztráljon a google formon: https://docs.google.com/forms/d/e/1FAIpQLSdmOHZmZ5zJl3PCrXXNYonaqcWW5HrQEL8huXCJ-YTJeCj_Dg/viewform?pli=1
URL:https://fvr.hu/event/zarandoklat-budapesten-regisztraciot-kerunk/
LOCATION:Belvárosi Ferences templom\, Bp. Ferenciek tere\, Ferenciek tere 9.\, Budapest\, 1053\, Hungary
CATEGORIES:országos
END:VEVENT
END:VCALENDAR